BEGIN:VCALENDAR
VERSION:2.0
PRODID:-//West McComb Baptist Church - ECPv6.13.2.1//NONSGML v1.0//EN
CALSCALE:GREGORIAN
METHOD:PUBLISH
X-WR-CALNAME:West McComb Baptist Church
X-ORIGINAL-URL:https://westmccombbaptist.com
X-WR-CALDESC:Events for West McComb Baptist Church
REFRESH-INTERVAL;VALUE=DURATION:PT1H
X-Robots-Tag:noindex
X-PUBLISHED-TTL:PT1H
BEGIN:VTIMEZONE
TZID:America/Chicago
BEGIN:DAYLIGHT
TZOFFSETFROM:-0600
TZOFFSETTO:-0500
TZNAME:CDT
DTSTART:20260308T080000
END:DAYLIGHT
BEGIN:STANDARD
TZOFFSETFROM:-0500
TZOFFSETTO:-0600
TZNAME:CST
DTSTART:20261101T070000
END:STANDARD
BEGIN:DAYLIGHT
TZOFFSETFROM:-0600
TZOFFSETTO:-0500
TZNAME:CDT
DTSTART:20270314T080000
END:DAYLIGHT
BEGIN:STANDARD
TZOFFSETFROM:-0500
TZOFFSETTO:-0600
TZNAME:CST
DTSTART:20271107T070000
END:STANDARD
BEGIN:DAYLIGHT
TZOFFSETFROM:-0600
TZOFFSETTO:-0500
TZNAME:CDT
DTSTART:20280312T080000
END:DAYLIGHT
BEGIN:STANDARD
TZOFFSETFROM:-0500
TZOFFSETTO:-0600
TZNAME:CST
DTSTART:20281105T070000
END:STANDARD
END:VTIMEZONE
BEGIN:VEVENT
DTSTART;TZID=America/Chicago:20260426T070000
DTEND;TZID=America/Chicago:20260426T080000
DTSTAMP:20260422T090244
CREATED:20240515T010011Z
LAST-MODIFIED:20251210T215137Z
UID:10000149-1777186800-1777190400@westmccombbaptist.com
SUMMARY:Brotherhood Breakfast
DESCRIPTION:All men & boys are invited to join us the last Sunday of every Month at 8:00am in the Bus Barn behind the Church for a breakfast & devotion.
URL:https://westmccombbaptist.com/event/brotherhood-breakfast/2026-04-26/
LOCATION:Bus Barn
CATEGORIES:Brotherhood
END:VEVENT
BEGIN:VEVENT
DTSTART;TZID=America/Chicago:20260531T070000
DTEND;TZID=America/Chicago:20260531T080000
DTSTAMP:20260422T090244
CREATED:20240515T010011Z
LAST-MODIFIED:20251210T215137Z
UID:10000150-1780210800-1780214400@westmccombbaptist.com
SUMMARY:Brotherhood Breakfast
DESCRIPTION:All men & boys are invited to join us the last Sunday of every Month at 8:00am in the Bus Barn behind the Church for a breakfast & devotion.
URL:https://westmccombbaptist.com/event/brotherhood-breakfast/2026-05-31/
LOCATION:Bus Barn
CATEGORIES:Brotherhood
END:VEVENT
BEGIN:VEVENT
DTSTART;TZID=America/Chicago:20260628T070000
DTEND;TZID=America/Chicago:20260628T080000
DTSTAMP:20260422T090244
CREATED:20240515T010011Z
LAST-MODIFIED:20251210T215137Z
UID:10000151-1782630000-1782633600@westmccombbaptist.com
SUMMARY:Brotherhood Breakfast
DESCRIPTION:All men & boys are invited to join us the last Sunday of every Month at 8:00am in the Bus Barn behind the Church for a breakfast & devotion.
URL:https://westmccombbaptist.com/event/brotherhood-breakfast/2026-06-28/
LOCATION:Bus Barn
CATEGORIES:Brotherhood
END:VEVENT
BEGIN:VEVENT
DTSTART;TZID=America/Chicago:20260726T070000
DTEND;TZID=America/Chicago:20260726T080000
DTSTAMP:20260422T090244
CREATED:20240515T010011Z
LAST-MODIFIED:20251210T215137Z
UID:10000152-1785049200-1785052800@westmccombbaptist.com
SUMMARY:Brotherhood Breakfast
DESCRIPTION:All men & boys are invited to join us the last Sunday of every Month at 8:00am in the Bus Barn behind the Church for a breakfast & devotion.
URL:https://westmccombbaptist.com/event/brotherhood-breakfast/2026-07-26/
LOCATION:Bus Barn
CATEGORIES:Brotherhood
END:VEVENT
BEGIN:VEVENT
DTSTART;TZID=America/Chicago:20260830T070000
DTEND;TZID=America/Chicago:20260830T080000
DTSTAMP:20260422T090244
CREATED:20240515T010011Z
LAST-MODIFIED:20251210T215137Z
UID:10000153-1788073200-1788076800@westmccombbaptist.com
SUMMARY:Brotherhood Breakfast
DESCRIPTION:All men & boys are invited to join us the last Sunday of every Month at 8:00am in the Bus Barn behind the Church for a breakfast & devotion.
URL:https://westmccombbaptist.com/event/brotherhood-breakfast/2026-08-30/
LOCATION:Bus Barn
CATEGORIES:Brotherhood
END:VEVENT
BEGIN:VEVENT
DTSTART;TZID=America/Chicago:20260927T070000
DTEND;TZID=America/Chicago:20260927T080000
DTSTAMP:20260422T090244
CREATED:20240515T010011Z
LAST-MODIFIED:20251210T215137Z
UID:10000154-1790492400-1790496000@westmccombbaptist.com
SUMMARY:Brotherhood Breakfast
DESCRIPTION:All men & boys are invited to join us the last Sunday of every Month at 8:00am in the Bus Barn behind the Church for a breakfast & devotion.
URL:https://westmccombbaptist.com/event/brotherhood-breakfast/2026-09-27/
LOCATION:Bus Barn
CATEGORIES:Brotherhood
END:VEVENT
BEGIN:VEVENT
DTSTART;TZID=America/Chicago:20261025T070000
DTEND;TZID=America/Chicago:20261025T080000
DTSTAMP:20260422T090244
CREATED:20240515T010011Z
LAST-MODIFIED:20251210T215137Z
UID:10000155-1792911600-1792915200@westmccombbaptist.com
SUMMARY:Brotherhood Breakfast
DESCRIPTION:All men & boys are invited to join us the last Sunday of every Month at 8:00am in the Bus Barn behind the Church for a breakfast & devotion.
URL:https://westmccombbaptist.com/event/brotherhood-breakfast/2026-10-25/
LOCATION:Bus Barn
CATEGORIES:Brotherhood
END:VEVENT
BEGIN:VEVENT
DTSTART;TZID=America/Chicago:20261129T070000
DTEND;TZID=America/Chicago:20261129T080000
DTSTAMP:20260422T090245
CREATED:20240515T010011Z
LAST-MODIFIED:20251210T215137Z
UID:10000156-1795935600-1795939200@westmccombbaptist.com
SUMMARY:Brotherhood Breakfast
DESCRIPTION:All men & boys are invited to join us the last Sunday of every Month at 8:00am in the Bus Barn behind the Church for a breakfast & devotion.
URL:https://westmccombbaptist.com/event/brotherhood-breakfast/2026-11-29/
LOCATION:Bus Barn
CATEGORIES:Brotherhood
END:VEVENT
BEGIN:VEVENT
DTSTART;TZID=America/Chicago:20261227T070000
DTEND;TZID=America/Chicago:20261227T080000
DTSTAMP:20260422T090245
CREATED:20240515T010011Z
LAST-MODIFIED:20251210T215137Z
UID:10000157-1798354800-1798358400@westmccombbaptist.com
SUMMARY:Brotherhood Breakfast
DESCRIPTION:All men & boys are invited to join us the last Sunday of every Month at 8:00am in the Bus Barn behind the Church for a breakfast & devotion.
URL:https://westmccombbaptist.com/event/brotherhood-breakfast/2026-12-27/
LOCATION:Bus Barn
CATEGORIES:Brotherhood
END:VEVENT
BEGIN:VEVENT
DTSTART;TZID=America/Chicago:20270131T070000
DTEND;TZID=America/Chicago:20270131T080000
DTSTAMP:20260422T090245
CREATED:20240515T010011Z
LAST-MODIFIED:20251210T215137Z
UID:10000158-1801378800-1801382400@westmccombbaptist.com
SUMMARY:Brotherhood Breakfast
DESCRIPTION:All men & boys are invited to join us the last Sunday of every Month at 8:00am in the Bus Barn behind the Church for a breakfast & devotion.
URL:https://westmccombbaptist.com/event/brotherhood-breakfast/2027-01-31/
LOCATION:Bus Barn
CATEGORIES:Brotherhood
END:VEVENT
BEGIN:VEVENT
DTSTART;TZID=America/Chicago:20270228T070000
DTEND;TZID=America/Chicago:20270228T080000
DTSTAMP:20260422T090245
CREATED:20240515T010011Z
LAST-MODIFIED:20251210T215137Z
UID:10000159-1803798000-1803801600@westmccombbaptist.com
SUMMARY:Brotherhood Breakfast
DESCRIPTION:All men & boys are invited to join us the last Sunday of every Month at 8:00am in the Bus Barn behind the Church for a breakfast & devotion.
URL:https://westmccombbaptist.com/event/brotherhood-breakfast/2027-02-28/
LOCATION:Bus Barn
CATEGORIES:Brotherhood
END:VEVENT
BEGIN:VEVENT
DTSTART;TZID=America/Chicago:20270328T070000
DTEND;TZID=America/Chicago:20270328T080000
DTSTAMP:20260422T090245
CREATED:20240515T010011Z
LAST-MODIFIED:20251210T215137Z
UID:10000160-1806217200-1806220800@westmccombbaptist.com
SUMMARY:Brotherhood Breakfast
DESCRIPTION:All men & boys are invited to join us the last Sunday of every Month at 8:00am in the Bus Barn behind the Church for a breakfast & devotion.
URL:https://westmccombbaptist.com/event/brotherhood-breakfast/2027-03-28/
LOCATION:Bus Barn
CATEGORIES:Brotherhood
END:VEVENT
BEGIN:VEVENT
DTSTART;TZID=America/Chicago:20270425T070000
DTEND;TZID=America/Chicago:20270425T080000
DTSTAMP:20260422T090245
CREATED:20240515T010011Z
LAST-MODIFIED:20251210T215137Z
UID:10000161-1808636400-1808640000@westmccombbaptist.com
SUMMARY:Brotherhood Breakfast
DESCRIPTION:All men & boys are invited to join us the last Sunday of every Month at 8:00am in the Bus Barn behind the Church for a breakfast & devotion.
URL:https://westmccombbaptist.com/event/brotherhood-breakfast/2027-04-25/
LOCATION:Bus Barn
CATEGORIES:Brotherhood
END:VEVENT
BEGIN:VEVENT
DTSTART;TZID=America/Chicago:20270530T070000
DTEND;TZID=America/Chicago:20270530T080000
DTSTAMP:20260422T090245
CREATED:20240515T010011Z
LAST-MODIFIED:20251210T215137Z
UID:10000162-1811660400-1811664000@westmccombbaptist.com
SUMMARY:Brotherhood Breakfast
DESCRIPTION:All men & boys are invited to join us the last Sunday of every Month at 8:00am in the Bus Barn behind the Church for a breakfast & devotion.
URL:https://westmccombbaptist.com/event/brotherhood-breakfast/2027-05-30/
LOCATION:Bus Barn
CATEGORIES:Brotherhood
END:VEVENT
BEGIN:VEVENT
DTSTART;TZID=America/Chicago:20270627T070000
DTEND;TZID=America/Chicago:20270627T080000
DTSTAMP:20260422T090245
CREATED:20240515T010011Z
LAST-MODIFIED:20251210T215137Z
UID:10000163-1814079600-1814083200@westmccombbaptist.com
SUMMARY:Brotherhood Breakfast
DESCRIPTION:All men & boys are invited to join us the last Sunday of every Month at 8:00am in the Bus Barn behind the Church for a breakfast & devotion.
URL:https://westmccombbaptist.com/event/brotherhood-breakfast/2027-06-27/
LOCATION:Bus Barn
CATEGORIES:Brotherhood
END:VEVENT
BEGIN:VEVENT
DTSTART;TZID=America/Chicago:20270725T070000
DTEND;TZID=America/Chicago:20270725T080000
DTSTAMP:20260422T090245
CREATED:20240515T010011Z
LAST-MODIFIED:20251210T215137Z
UID:10000164-1816498800-1816502400@westmccombbaptist.com
SUMMARY:Brotherhood Breakfast
DESCRIPTION:All men & boys are invited to join us the last Sunday of every Month at 8:00am in the Bus Barn behind the Church for a breakfast & devotion.
URL:https://westmccombbaptist.com/event/brotherhood-breakfast/2027-07-25/
LOCATION:Bus Barn
CATEGORIES:Brotherhood
END:VEVENT
BEGIN:VEVENT
DTSTART;TZID=America/Chicago:20270829T070000
DTEND;TZID=America/Chicago:20270829T080000
DTSTAMP:20260422T090245
CREATED:20240515T010011Z
LAST-MODIFIED:20251210T215137Z
UID:10000165-1819522800-1819526400@westmccombbaptist.com
SUMMARY:Brotherhood Breakfast
DESCRIPTION:All men & boys are invited to join us the last Sunday of every Month at 8:00am in the Bus Barn behind the Church for a breakfast & devotion.
URL:https://westmccombbaptist.com/event/brotherhood-breakfast/2027-08-29/
LOCATION:Bus Barn
CATEGORIES:Brotherhood
END:VEVENT
BEGIN:VEVENT
DTSTART;TZID=America/Chicago:20270926T070000
DTEND;TZID=America/Chicago:20270926T080000
DTSTAMP:20260422T090245
CREATED:20240515T010011Z
LAST-MODIFIED:20251210T215137Z
UID:10000166-1821942000-1821945600@westmccombbaptist.com
SUMMARY:Brotherhood Breakfast
DESCRIPTION:All men & boys are invited to join us the last Sunday of every Month at 8:00am in the Bus Barn behind the Church for a breakfast & devotion.
URL:https://westmccombbaptist.com/event/brotherhood-breakfast/2027-09-26/
LOCATION:Bus Barn
CATEGORIES:Brotherhood
END:VEVENT
BEGIN:VEVENT
DTSTART;TZID=America/Chicago:20271031T070000
DTEND;TZID=America/Chicago:20271031T080000
DTSTAMP:20260422T090245
CREATED:20240515T010011Z
LAST-MODIFIED:20251210T215137Z
UID:10000167-1824966000-1824969600@westmccombbaptist.com
SUMMARY:Brotherhood Breakfast
DESCRIPTION:All men & boys are invited to join us the last Sunday of every Month at 8:00am in the Bus Barn behind the Church for a breakfast & devotion.
URL:https://westmccombbaptist.com/event/brotherhood-breakfast/2027-10-31/
LOCATION:Bus Barn
CATEGORIES:Brotherhood
END:VEVENT
BEGIN:VEVENT
DTSTART;TZID=America/Chicago:20271128T070000
DTEND;TZID=America/Chicago:20271128T080000
DTSTAMP:20260422T090245
CREATED:20240515T010011Z
LAST-MODIFIED:20251210T215137Z
UID:10000168-1827385200-1827388800@westmccombbaptist.com
SUMMARY:Brotherhood Breakfast
DESCRIPTION:All men & boys are invited to join us the last Sunday of every Month at 8:00am in the Bus Barn behind the Church for a breakfast & devotion.
URL:https://westmccombbaptist.com/event/brotherhood-breakfast/2027-11-28/
LOCATION:Bus Barn
CATEGORIES:Brotherhood
END:VEVENT
BEGIN:VEVENT
DTSTART;TZID=America/Chicago:20271226T070000
DTEND;TZID=America/Chicago:20271226T080000
DTSTAMP:20260422T090245
CREATED:20240515T010011Z
LAST-MODIFIED:20251210T215137Z
UID:10000169-1829804400-1829808000@westmccombbaptist.com
SUMMARY:Brotherhood Breakfast
DESCRIPTION:All men & boys are invited to join us the last Sunday of every Month at 8:00am in the Bus Barn behind the Church for a breakfast & devotion.
URL:https://westmccombbaptist.com/event/brotherhood-breakfast/2027-12-26/
LOCATION:Bus Barn
CATEGORIES:Brotherhood
END:VEVENT
BEGIN:VEVENT
DTSTART;TZID=America/Chicago:20280130T070000
DTEND;TZID=America/Chicago:20280130T080000
DTSTAMP:20260422T090245
CREATED:20240515T010011Z
LAST-MODIFIED:20251210T215137Z
UID:10000170-1832828400-1832832000@westmccombbaptist.com
SUMMARY:Brotherhood Breakfast
DESCRIPTION:All men & boys are invited to join us the last Sunday of every Month at 8:00am in the Bus Barn behind the Church for a breakfast & devotion.
URL:https://westmccombbaptist.com/event/brotherhood-breakfast/2028-01-30/
LOCATION:Bus Barn
CATEGORIES:Brotherhood
END:VEVENT
BEGIN:VEVENT
DTSTART;TZID=America/Chicago:20280227T070000
DTEND;TZID=America/Chicago:20280227T080000
DTSTAMP:20260422T090245
CREATED:20240515T010011Z
LAST-MODIFIED:20251210T215137Z
UID:10000171-1835247600-1835251200@westmccombbaptist.com
SUMMARY:Brotherhood Breakfast
DESCRIPTION:All men & boys are invited to join us the last Sunday of every Month at 8:00am in the Bus Barn behind the Church for a breakfast & devotion.
URL:https://westmccombbaptist.com/event/brotherhood-breakfast/2028-02-27/
LOCATION:Bus Barn
CATEGORIES:Brotherhood
END:VEVENT
BEGIN:VEVENT
DTSTART;TZID=America/Chicago:20280326T070000
DTEND;TZID=America/Chicago:20280326T080000
DTSTAMP:20260422T090245
CREATED:20240515T010011Z
LAST-MODIFIED:20251210T215137Z
UID:10000172-1837666800-1837670400@westmccombbaptist.com
SUMMARY:Brotherhood Breakfast
DESCRIPTION:All men & boys are invited to join us the last Sunday of every Month at 8:00am in the Bus Barn behind the Church for a breakfast & devotion.
URL:https://westmccombbaptist.com/event/brotherhood-breakfast/2028-03-26/
LOCATION:Bus Barn
CATEGORIES:Brotherhood
END:VEVENT
BEGIN:VEVENT
DTSTART;TZID=America/Chicago:20280430T070000
DTEND;TZID=America/Chicago:20280430T080000
DTSTAMP:20260422T090245
CREATED:20240515T010011Z
LAST-MODIFIED:20251210T215137Z
UID:10000173-1840690800-1840694400@westmccombbaptist.com
SUMMARY:Brotherhood Breakfast
DESCRIPTION:All men & boys are invited to join us the last Sunday of every Month at 8:00am in the Bus Barn behind the Church for a breakfast & devotion.
URL:https://westmccombbaptist.com/event/brotherhood-breakfast/2028-04-30/
LOCATION:Bus Barn
CATEGORIES:Brotherhood
END:VEVENT
BEGIN:VEVENT
DTSTART;TZID=America/Chicago:20280528T070000
DTEND;TZID=America/Chicago:20280528T080000
DTSTAMP:20260422T090245
CREATED:20240515T010011Z
LAST-MODIFIED:20251210T215137Z
UID:10000174-1843110000-1843113600@westmccombbaptist.com
SUMMARY:Brotherhood Breakfast
DESCRIPTION:All men & boys are invited to join us the last Sunday of every Month at 8:00am in the Bus Barn behind the Church for a breakfast & devotion.
URL:https://westmccombbaptist.com/event/brotherhood-breakfast/2028-05-28/
LOCATION:Bus Barn
CATEGORIES:Brotherhood
END:VEVENT
BEGIN:VEVENT
DTSTART;TZID=America/Chicago:20280625T070000
DTEND;TZID=America/Chicago:20280625T080000
DTSTAMP:20260422T090245
CREATED:20240515T010011Z
LAST-MODIFIED:20251210T215137Z
UID:10000175-1845529200-1845532800@westmccombbaptist.com
SUMMARY:Brotherhood Breakfast
DESCRIPTION:All men & boys are invited to join us the last Sunday of every Month at 8:00am in the Bus Barn behind the Church for a breakfast & devotion.
URL:https://westmccombbaptist.com/event/brotherhood-breakfast/2028-06-25/
LOCATION:Bus Barn
CATEGORIES:Brotherhood
END:VEVENT
BEGIN:VEVENT
DTSTART;TZID=America/Chicago:20280730T070000
DTEND;TZID=America/Chicago:20280730T080000
DTSTAMP:20260422T090245
CREATED:20240515T010011Z
LAST-MODIFIED:20251210T215137Z
UID:10000176-1848553200-1848556800@westmccombbaptist.com
SUMMARY:Brotherhood Breakfast
DESCRIPTION:All men & boys are invited to join us the last Sunday of every Month at 8:00am in the Bus Barn behind the Church for a breakfast & devotion.
URL:https://westmccombbaptist.com/event/brotherhood-breakfast/2028-07-30/
LOCATION:Bus Barn
CATEGORIES:Brotherhood
END:VEVENT
BEGIN:VEVENT
DTSTART;TZID=America/Chicago:20280827T070000
DTEND;TZID=America/Chicago:20280827T080000
DTSTAMP:20260422T090245
CREATED:20240515T010011Z
LAST-MODIFIED:20251210T215137Z
UID:10000177-1850972400-1850976000@westmccombbaptist.com
SUMMARY:Brotherhood Breakfast
DESCRIPTION:All men & boys are invited to join us the last Sunday of every Month at 8:00am in the Bus Barn behind the Church for a breakfast & devotion.
URL:https://westmccombbaptist.com/event/brotherhood-breakfast/2028-08-27/
LOCATION:Bus Barn
CATEGORIES:Brotherhood
END:VEVENT
BEGIN:VEVENT
DTSTART;TZID=America/Chicago:20280924T070000
DTEND;TZID=America/Chicago:20280924T080000
DTSTAMP:20260422T090245
CREATED:20240515T010011Z
LAST-MODIFIED:20251210T215137Z
UID:10000178-1853391600-1853395200@westmccombbaptist.com
SUMMARY:Brotherhood Breakfast
DESCRIPTION:All men & boys are invited to join us the last Sunday of every Month at 8:00am in the Bus Barn behind the Church for a breakfast & devotion.
URL:https://westmccombbaptist.com/event/brotherhood-breakfast/2028-09-24/
LOCATION:Bus Barn
CATEGORIES:Brotherhood
END:VEVENT
END:VCALENDAR