BEGIN:VCALENDAR
VERSION:2.0
PRODID:-//West McComb Baptist Church - ECPv6.13.2.1//NONSGML v1.0//EN
CALSCALE:GREGORIAN
METHOD:PUBLISH
X-WR-CALNAME:West McComb Baptist Church
X-ORIGINAL-URL:https://westmccombbaptist.com
X-WR-CALDESC:Events for West McComb Baptist Church
REFRESH-INTERVAL;VALUE=DURATION:PT1H
X-Robots-Tag:noindex
X-PUBLISHED-TTL:PT1H
BEGIN:VTIMEZONE
TZID:America/Chicago
BEGIN:DAYLIGHT
TZOFFSETFROM:-0600
TZOFFSETTO:-0500
TZNAME:CDT
DTSTART:20260308T080000
END:DAYLIGHT
BEGIN:STANDARD
TZOFFSETFROM:-0500
TZOFFSETTO:-0600
TZNAME:CST
DTSTART:20261101T070000
END:STANDARD
END:VTIMEZONE
BEGIN:VEVENT
DTSTART;TZID=America/Chicago:20260422T180000
DTEND;TZID=America/Chicago:20260422T190000
DTSTAMP:20260422T085231
CREATED:20250529T145936Z
LAST-MODIFIED:20251027T153908Z
UID:10001524-1776880800-1776884400@westmccombbaptist.com
SUMMARY:Mid-week Activities
DESCRIPTION:Each Wednesday night we have several activities going on at WMBC. At 6:00pm we begin events for all ages. For our adults we have a Praise & Prayer service in the Sanctuary as we lift up the needs of our church & our community as well as take part in a short Bible study. Our teenagers have a weekly devotion in the Youth Room with Bible study\, and our children have mission group meetings: RA’s\, GA’s\, & Mission Friends. RA’s or Royal Ambassadors is our boys mission group\, GA’s or Girls in Action is our girls mission group\, and Mission Friends is for our much younger children. We take part in these programs to ensure that missions is an active part of every department in our church. Come and visit with us! At 7:00pm we have our adult choir rehearsal\, all adults 18 years and older are invited to join this group of singers. During the school-year we even offer a meal at 5:00pm for those who find it hard to cook beforehand.
URL:https://westmccombbaptist.com/event/mid-week-activities/2026-04-22/
CATEGORIES:Bible Study,Children's Department,Choir Practice,Youth Department
ATTACH;FMTTYPE=image/png:https://westmccombbaptist.com/wp-content/uploads/midweek_23021c-scaled.png
END:VEVENT
BEGIN:VEVENT
DTSTART;TZID=America/Chicago:20260426T070000
DTEND;TZID=America/Chicago:20260426T080000
DTSTAMP:20260422T085231
CREATED:20240515T010011Z
LAST-MODIFIED:20251210T215137Z
UID:10000149-1777186800-1777190400@westmccombbaptist.com
SUMMARY:Brotherhood Breakfast
DESCRIPTION:All men & boys are invited to join us the last Sunday of every Month at 8:00am in the Bus Barn behind the Church for a breakfast & devotion.
URL:https://westmccombbaptist.com/event/brotherhood-breakfast/2026-04-26/
LOCATION:Bus Barn
CATEGORIES:Brotherhood
END:VEVENT
BEGIN:VEVENT
DTSTART;TZID=America/Chicago:20260426T103000
DTEND;TZID=America/Chicago:20260426T113000
DTSTAMP:20260422T085231
CREATED:20251209T160337Z
LAST-MODIFIED:20251209T160337Z
UID:10002419-1777199400-1777203000@westmccombbaptist.com
SUMMARY:Morning Service
DESCRIPTION:West McComb Baptist Church holds weekly services at 10:30am each Sunday morning. Currently we are meeting downstairs in our Worship Center. Come & join us as we Worship Jesus Christ together!
URL:https://westmccombbaptist.com/event/morning-service/2026-04-26/
ATTACH;FMTTYPE=image/svg+xml:https://westmccombbaptist.com/wp-content/uploads/WMBC-Badge.svg
END:VEVENT
BEGIN:VEVENT
DTSTART;TZID=America/Chicago:20260426T150000
DTEND;TZID=America/Chicago:20260426T163000
DTSTAMP:20260422T085231
CREATED:20250505T221534Z
LAST-MODIFIED:20250529T152952Z
UID:10001845-1777215600-1777221000@westmccombbaptist.com
SUMMARY:Handbells Practice
DESCRIPTION:Our WMBC Handbell choir meets to practice on Sundays from 3:00pm-4:30pm. This group normal presents their Program of Worship during Easter & during Christmas. This is a mission-minded group that would love to come play for those in the community\, feel free to invite them to play!
URL:https://westmccombbaptist.com/event/handbells-practice-2/2026-04-26/
CATEGORIES:Choir Practice
END:VEVENT
BEGIN:VEVENT
DTSTART;TZID=America/Chicago:20260426T160000
DTEND;TZID=America/Chicago:20260426T170000
DTSTAMP:20260422T085231
CREATED:20240516T173804Z
LAST-MODIFIED:20240516T173804Z
UID:10001185-1777219200-1777222800@westmccombbaptist.com
SUMMARY:Youth Choir Practice
DESCRIPTION:
URL:https://westmccombbaptist.com/event/youth-choir-practice/2026-04-26/
CATEGORIES:Choir Practice
END:VEVENT
BEGIN:VEVENT
DTSTART;TZID=America/Chicago:20260426T170000
DTEND;TZID=America/Chicago:20260426T180000
DTSTAMP:20260422T085231
CREATED:20240515T213838Z
LAST-MODIFIED:20240515T213838Z
UID:10000922-1777222800-1777226400@westmccombbaptist.com
SUMMARY:Children's Choir Practice
DESCRIPTION:
URL:https://westmccombbaptist.com/event/childrens-choir-practice/2026-04-26/
CATEGORIES:Choir Practice
END:VEVENT
BEGIN:VEVENT
DTSTART;TZID=America/Chicago:20260427T180000
DTEND;TZID=America/Chicago:20260427T193000
DTSTAMP:20260422T085231
CREATED:20250814T151811Z
LAST-MODIFIED:20250814T160557Z
UID:10002117-1777312800-1777318200@westmccombbaptist.com
SUMMARY:Trail Life Meeting
DESCRIPTION:Each week our Trail Life Troop MS-0516\, a Christ-centered\, boy-focused\, outdoor adventure program for boys ages 5-17\, will meet from 6:00pm to 7:30pm in our Bus Barn behind the church. Each meeting will consist of a devotion\, pledges\, a learning activity\, a game\, & fellowship. For more information reach out to our Troop Master\, Bro. Scott Anderson at owen.anderson@yahoo.com or contact Bro. Hunter at pastor@westmccombbaptist.com or call the church office at (601)-684-5442.
URL:https://westmccombbaptist.com/event/trail-life-meeting/2026-04-27/
LOCATION:Bus Barn
CATEGORIES:Brotherhood,Children's Department,Yesterday's Kids
ATTACH;FMTTYPE=application/pdf:https://westmccombbaptist.com/wp-content/uploads/Troop-BlockLogo-Color-Template.pdf
END:VEVENT
BEGIN:VEVENT
DTSTART;TZID=America/Chicago:20260429T180000
DTEND;TZID=America/Chicago:20260429T190000
DTSTAMP:20260422T085231
CREATED:20250529T145936Z
LAST-MODIFIED:20251027T153908Z
UID:10001525-1777485600-1777489200@westmccombbaptist.com
SUMMARY:Mid-week Activities
DESCRIPTION:Each Wednesday night we have several activities going on at WMBC. At 6:00pm we begin events for all ages. For our adults we have a Praise & Prayer service in the Sanctuary as we lift up the needs of our church & our community as well as take part in a short Bible study. Our teenagers have a weekly devotion in the Youth Room with Bible study\, and our children have mission group meetings: RA’s\, GA’s\, & Mission Friends. RA’s or Royal Ambassadors is our boys mission group\, GA’s or Girls in Action is our girls mission group\, and Mission Friends is for our much younger children. We take part in these programs to ensure that missions is an active part of every department in our church. Come and visit with us! At 7:00pm we have our adult choir rehearsal\, all adults 18 years and older are invited to join this group of singers. During the school-year we even offer a meal at 5:00pm for those who find it hard to cook beforehand.
URL:https://westmccombbaptist.com/event/mid-week-activities/2026-04-29/
CATEGORIES:Bible Study,Children's Department,Choir Practice,Youth Department
ATTACH;FMTTYPE=image/png:https://westmccombbaptist.com/wp-content/uploads/midweek_23021c-scaled.png
END:VEVENT
END:VCALENDAR